BEGIN:VCALENDAR
PRODID:-//eluceo/ical//2.0/EN
VERSION:2.0
CALSCALE:GREGORIAN
BEGIN:VEVENT
UID:f1df68acd372f3d9ee16c858df822956
DTSTAMP:20260419T171734Z
SUMMARY:Citizen Science Vortragsreihe: "DANUBE4All"
DTSTART:20260624T140000
DTEND:20260624T153000
END:VEVENT
END:VCALENDAR
