BEGIN:VCALENDAR
PRODID:-//eluceo/ical//2.0/EN
VERSION:2.0
CALSCALE:GREGORIAN
BEGIN:VEVENT
UID:9a2d1b568bd389d89bbd735c549f907c
DTSTAMP:20260419T172636Z
SUMMARY:Citizen Science Vortragsreihe: "U3Green"
DTSTART:20260520T140000
DTEND:20260520T153000
END:VEVENT
END:VCALENDAR
