BEGIN:VCALENDAR
PRODID:-//eluceo/ical//2.0/EN
VERSION:2.0
CALSCALE:GREGORIAN
BEGIN:VEVENT
UID:372adb7eecb54b2eaafd3097d3f02cdc
DTSTAMP:20260421T142754Z
SUMMARY:Fortbildung: Citizen Science in Bibliotheken
DTSTART:20260409T140000
DTEND:20260409T160000
END:VEVENT
END:VCALENDAR
