BEGIN:VCALENDAR
PRODID:-//eluceo/ical//2.0/EN
VERSION:2.0
CALSCALE:GREGORIAN
BEGIN:VEVENT
UID:e4e6395e0236458715aa22ece5fb7959
DTSTAMP:20260421T083025Z
SUMMARY:Open Science Retreat 2026
DTSTART:20260329T090000
DTEND:20260402T170000
END:VEVENT
END:VCALENDAR
