BEGIN:VCALENDAR
PRODID:-//eluceo/ical//2.0/EN
VERSION:2.0
CALSCALE:GREGORIAN
BEGIN:VEVENT
UID:bd34bbd9bcc9956996c971686b218409
DTSTAMP:20260419T125816Z
SUMMARY:Ecsite Konferenz 2026
DTSTART:20260602T090000
DTEND:20260604T170000
END:VEVENT
END:VCALENDAR
