BEGIN:VCALENDAR
PRODID:-//eluceo/ical//2.0/EN
VERSION:2.0
CALSCALE:GREGORIAN
BEGIN:VEVENT
UID:cf106bbb2e3a097fee7a765ce3c142a2
DTSTAMP:20260421T130829Z
SUMMARY:Strengthening Cross-Border Cooperations through Inclusive Education
  (TCA)
DTSTART:20260617T150000
DTEND:20260619T130000
END:VEVENT
END:VCALENDAR
