BEGIN:VCALENDAR
PRODID:-//eluceo/ical//2.0/EN
VERSION:2.0
CALSCALE:GREGORIAN
BEGIN:VEVENT
UID:3c70042463c7773e6fad6bd000db5997
DTSTAMP:20260421T130735Z
SUMMARY:eTwinning-Seminar in Serbien: Building Bridges for Accredited Schoo
 ls
DTSTART:20260527T170000
DTEND:20260529T130000
END:VEVENT
END:VCALENDAR
