BEGIN:VCALENDAR
PRODID:-//eluceo/ical//2.0/EN
VERSION:2.0
CALSCALE:GREGORIAN
BEGIN:VEVENT
UID:a58b753cbb0ed073b63a746a1ddb9c6a
DTSTAMP:20260419T200139Z
SUMMARY:Workshopreihe zu Citizen Science: "Evaluation von Citizen-Science-P
 rojekten"
DTSTART:20260320T100000
DTEND:20260320T120000
END:VEVENT
END:VCALENDAR
