BEGIN:VCALENDAR
PRODID:-//eluceo/ical//2.0/EN
VERSION:2.0
CALSCALE:GREGORIAN
BEGIN:VEVENT
UID:6969006c40645a3ad05222b335886698
DTSTAMP:20260419T200139Z
SUMMARY:Workshopreihe zu Citizen Science: "Kooperation in Citizen-Science-P
 rojekten"
DTSTART:20260318T100000
DTEND:20260318T120000
END:VEVENT
END:VCALENDAR
