BEGIN:VCALENDAR
PRODID:-//eluceo/ical//2.0/EN
VERSION:2.0
CALSCALE:GREGORIAN
BEGIN:VEVENT
UID:5c71e269e0af4090f695941ca21b9d01
DTSTAMP:20260419T200123Z
SUMMARY:Workshopreihe zu Citizen Science: "Citizen Science in Schulen"
DTSTART:20260316T100000
DTEND:20260316T120000
END:VEVENT
END:VCALENDAR
