BEGIN:VCALENDAR
PRODID:-//eluceo/ical//2.0/EN
VERSION:2.0
CALSCALE:GREGORIAN
BEGIN:VEVENT
UID:ffc00b9dc077d9301b5f4d3964df9694
DTSTAMP:20260419T200223Z
SUMMARY:Workshopreihe zu Citizen Science: "Freiwilligenmanagement in Citize
 n Science"
DTSTART:20260313T100000
DTEND:20260313T120000
END:VEVENT
END:VCALENDAR
