BEGIN:VCALENDAR
PRODID:-//eluceo/ical//2.0/EN
VERSION:2.0
CALSCALE:GREGORIAN
BEGIN:VEVENT
UID:d72ee1369b542ce7e3c17d9449279e03
DTSTAMP:20260419T200210Z
SUMMARY:Workshopreihe zu Citizen Science: "Einführung in Citizen Science"
DTSTART:20260309T100000
DTEND:20260309T120000
END:VEVENT
END:VCALENDAR
