BEGIN:VCALENDAR
PRODID:-//eluceo/ical//2.0/EN
VERSION:2.0
CALSCALE:GREGORIAN
BEGIN:VEVENT
UID:8cfe49910f04e999cb26e674d40fb656
DTSTAMP:20260421T130836Z
SUMMARY:The Role of Career Guidance in Inclusive Transitions from Schools t
 o VET Institutions
DTSTART:20260518T161400
DTEND:20260521T162400
END:VEVENT
END:VCALENDAR
