BEGIN:VCALENDAR
PRODID:-//eluceo/ical//2.0/EN
VERSION:2.0
CALSCALE:GREGORIAN
BEGIN:VEVENT
UID:7f7d619dc7efde4c886dae141d2927bf
DTSTAMP:20260421T142651Z
SUMMARY:Webinar: Aufenthaltsrechtliche Fragen im Hochschulkontext\, Fokus: 
 Studierende
DTSTART:20260226T140000
DTEND:20260226T160000
END:VEVENT
END:VCALENDAR
