BEGIN:VCALENDAR
PRODID:-//eluceo/ical//2.0/EN
VERSION:2.0
CALSCALE:GREGORIAN
BEGIN:VEVENT
UID:2871ef4e03e9b4cbd0b9ab7c590b8653
DTSTAMP:20260419T141555Z
SUMMARY:Bologna-Tag 2026
DTSTART:20260617T100000
DTEND:20260617T170000
END:VEVENT
END:VCALENDAR
