BEGIN:VCALENDAR
PRODID:-//eluceo/ical//2.0/EN
VERSION:2.0
CALSCALE:GREGORIAN
BEGIN:VEVENT
UID:d5368fde6cf555fbcaaa5b3d4329debe
DTSTAMP:20260421T100829Z
SUMMARY:Digital Readiness Lab: Enhancing digital transformation in Erasmus+
  projects  
DTSTART:20260525T152200
DTEND:20260528T152300
END:VEVENT
END:VCALENDAR
