BEGIN:VCALENDAR
PRODID:-//eluceo/ical//2.0/EN
VERSION:2.0
CALSCALE:GREGORIAN
BEGIN:VEVENT
UID:eb52a4d894c45b3d5357e6c56fbb4d89
DTSTAMP:20260421T101005Z
SUMMARY:Webinar: Qualität in eTwinning-Projekten 
DTSTART:20260317T150000
DTEND:20260317T160000
END:VEVENT
END:VCALENDAR
