BEGIN:VCALENDAR
PRODID:-//eluceo/ical//2.0/EN
VERSION:2.0
CALSCALE:GREGORIAN
BEGIN:VEVENT
UID:77f9d49ce658492c5e8b874cad3dbfef
DTSTAMP:20260421T100902Z
SUMMARY:Quality in Group Mobility - eTwinning can help you!
DTSTART:20260414T173300
DTEND:20260417T173300
END:VEVENT
END:VCALENDAR
