BEGIN:VCALENDAR
PRODID:-//eluceo/ical//2.0/EN
VERSION:2.0
CALSCALE:GREGORIAN
BEGIN:VEVENT
UID:bf8a873cf2474c5dcc1ee0eef23b1c05
DTSTAMP:20260421T100829Z
SUMMARY: Climate Objectives: Enhancing Knowledge for Good-Quality KA2 Proje
 cts
DTSTART:20260309T172000
DTEND:20260310T172200
END:VEVENT
END:VCALENDAR
