BEGIN:VCALENDAR
PRODID:-//eluceo/ical//2.0/EN
VERSION:2.0
CALSCALE:GREGORIAN
BEGIN:VEVENT
UID:f4ee7b17b28e53fd064270350c5856fe
DTSTAMP:20260421T100902Z
SUMMARY:The Erasmus+ Generation for the Earth
DTSTART:20260416T152700
DTEND:20260417T152800
END:VEVENT
END:VCALENDAR
