BEGIN:VCALENDAR
PRODID:-//eluceo/ical//2.0/EN
VERSION:2.0
CALSCALE:GREGORIAN
BEGIN:VEVENT
UID:6c03886c43100bb70aa7125030dde10f
DTSTAMP:20260421T084214Z
SUMMARY:eLecture: Der Weg zur digitalen Souveränität - von der Theorie zu
 r Praxis
DTSTART:20260303T170000
DTEND:20260303T183000
END:VEVENT
END:VCALENDAR
