BEGIN:VCALENDAR
PRODID:-//eluceo/ical//2.0/EN
VERSION:2.0
CALSCALE:GREGORIAN
BEGIN:VEVENT
UID:a9c66cedb964e332eb388549cea14ba9
DTSTAMP:20260421T084242Z
SUMMARY:Netzwerktreffen für Young-Science- & Citizen-Science-Kontaktperson
 en
DTSTART:20260415T100000
DTEND:20260415T113000
END:VEVENT
END:VCALENDAR
