BEGIN:VCALENDAR
PRODID:-//eluceo/ical//2.0/EN
VERSION:2.0
CALSCALE:GREGORIAN
BEGIN:VEVENT
UID:5c7bc829068a55acfde86d16dfeccbc7
DTSTAMP:20260421T130645Z
SUMMARY:eTwinning-Seminar in Tschechien: Skills for Life in Action - Empowe
 ring Educators and Students
DTSTART:20260423T150000
DTEND:20260425T130000
END:VEVENT
END:VCALENDAR
