BEGIN:VCALENDAR
PRODID:-//eluceo/ical//2.0/EN
VERSION:2.0
CALSCALE:GREGORIAN
BEGIN:VEVENT
UID:b273c1a3dfcc7d1c70adaf4aec7a5467
DTSTAMP:20260421T145007Z
SUMMARY:Fragerunde Projektanträge KA210-VET - Kleinere Partnerschaften in 
 der Berufsbildung
DTSTART:20260130T113000
DTEND:20260130T123000
END:VEVENT
END:VCALENDAR
