BEGIN:VCALENDAR
PRODID:-//eluceo/ical//2.0/EN
VERSION:2.0
CALSCALE:GREGORIAN
BEGIN:VEVENT
UID:a0d3d54265326cdc776d3259c1aa68b2
DTSTAMP:20260421T100902Z
SUMMARY:Franz Werfel Tagung 2026
DTSTART:20260313T004400
DTEND:20260314T004500
END:VEVENT
END:VCALENDAR
