BEGIN:VCALENDAR
PRODID:-//eluceo/ical//2.0/EN
VERSION:2.0
CALSCALE:GREGORIAN
BEGIN:VEVENT
UID:7c901b2512c54ee16029f3dbb585b7d3
DTSTAMP:20260421T142917Z
SUMMARY:Lektoratsprogramm - Fragestunde zur Bewerbung
DTSTART:20260128T100000
DTEND:20260128T110000
END:VEVENT
END:VCALENDAR
