BEGIN:VCALENDAR
PRODID:-//eluceo/ical//2.0/EN
VERSION:2.0
CALSCALE:GREGORIAN
BEGIN:VEVENT
UID:e100ab37782cae313a270d4c8c70c8a2
DTSTAMP:20260421T143519Z
SUMMARY:Erasmus+ Berufsbildungs-Brunch: Wie entwickelt man eine Qualifikati
 on?
DTSTART:20260129T123000
DTEND:20260129T133000
END:VEVENT
END:VCALENDAR
