BEGIN:VCALENDAR
PRODID:-//eluceo/ical//2.0/EN
VERSION:2.0
CALSCALE:GREGORIAN
BEGIN:VEVENT
UID:7e6421b6b7f9296d8ac3965d5ae9c257
DTSTAMP:20260421T144037Z
SUMMARY:Erasmus+ Berufsbildungs-Brunch: NQR: Hintergrund\, Struktur\, Auswi
 rkungen
DTSTART:20260128T110000
DTEND:20260128T120000
END:VEVENT
END:VCALENDAR
