BEGIN:VCALENDAR
PRODID:-//eluceo/ical//2.0/EN
VERSION:2.0
CALSCALE:GREGORIAN
BEGIN:VEVENT
UID:2c5133cca1c99c1c22c9994f53b9172d
DTSTAMP:20260420T084038Z
SUMMARY:STEM Impact School
DTSTART:20260303T090000
DTEND:20260305T170000
END:VEVENT
END:VCALENDAR
