BEGIN:VCALENDAR
PRODID:-//eluceo/ical//2.0/EN
VERSION:2.0
CALSCALE:GREGORIAN
BEGIN:VEVENT
UID:dd0740c5307885a1a42ad982de837db1
DTSTAMP:20260421T083018Z
SUMMARY:Abschlusspräsentation des Sparkling-Science-Projekts "This is (not
 ) Rocket Science"
DTSTART:20250625T093000
DTEND:20250625T113000
END:VEVENT
END:VCALENDAR
