BEGIN:VCALENDAR
PRODID:-//eluceo/ical//2.0/EN
VERSION:2.0
CALSCALE:GREGORIAN
BEGIN:VEVENT
UID:a94e13c41f424cd838adbeb599c6d17d
DTSTAMP:20260422T083141Z
SUMMARY:Invitation to the Armenian-Austrian University Cooperation Meeting
DTSTART:20250707T093000
DTEND:20250707T163000
END:VEVENT
END:VCALENDAR
