BEGIN:VCALENDAR
PRODID:-//eluceo/ical//2.0/EN
VERSION:2.0
CALSCALE:GREGORIAN
BEGIN:VEVENT
UID:8da139fb34f1207635b9b0130da9f238
DTSTAMP:20260426T035636Z
SUMMARY:CitSciHelvetia
DTSTART:20250605T083000
DTEND:20250606T163000
END:VEVENT
END:VCALENDAR
