BEGIN:VCALENDAR
PRODID:-//eluceo/ical//2.0/EN
VERSION:2.0
CALSCALE:GREGORIAN
BEGIN:VEVENT
UID:ce43e0e7bdf47344f3f5a06e45391474
DTSTAMP:20260421T101005Z
SUMMARY:Webinar Erasmus+ Inklusionsunterstützung
DTSTART:20250429T100000
DTEND:20250429T113000
END:VEVENT
END:VCALENDAR
