BEGIN:VCALENDAR
PRODID:-//eluceo/ical//2.0/EN
VERSION:2.0
CALSCALE:GREGORIAN
BEGIN:VEVENT
UID:a07c0311463ca0f5fad183c7af4c6157
DTSTAMP:20260421T101004Z
SUMMARY:Minority Languages Uniting in Diversity
DTSTART:20250611T112100
DTEND:20250614T112200
END:VEVENT
END:VCALENDAR
