BEGIN:VCALENDAR
PRODID:-//eluceo/ical//2.0/EN
VERSION:2.0
CALSCALE:GREGORIAN
BEGIN:VEVENT
UID:5d4a79edd9180abe89c02c8ac7187c53
DTSTAMP:20260421T083027Z
SUMMARY:Digitale Schule in Zeiten von Deep Fakes und Fake News - Webinar mi
 t Saferinternet.at
DTSTART:20250429T150000
DTEND:20250429T163000
END:VEVENT
END:VCALENDAR
